Package: CBNplot Version: 1.7.0 Command: /home/biocbuild/R/R/bin/R CMD check --install=check:CBNplot.install-out.txt --library=/home/biocbuild/R/R/site-library --no-vignettes --timings CBNplot_1.7.0.tar.gz StartedAt: 2025-01-28 08:56:50 -0000 (Tue, 28 Jan 2025) EndedAt: 2025-01-28 09:03:53 -0000 (Tue, 28 Jan 2025) EllapsedTime: 423.3 seconds RetCode: 0 Status: OK CheckDir: CBNplot.Rcheck Warnings: 0