Package: CBNplot Version: 1.7.0 Command: /home/biocbuild/R/R/bin/R CMD INSTALL CBNplot StartedAt: 2025-01-29 20:18:52 -0000 (Wed, 29 Jan 2025) EndedAt: 2025-01-29 20:19:34 -0000 (Wed, 29 Jan 2025) EllapsedTime: 42.4 seconds RetCode: 0 Status: OK