Package: CBNplot Version: 1.7.0 Command: rm -rf CBNplot.buildbin-libdir && mkdir CBNplot.buildbin-libdir && /Users/biocbuild/BBS/utils/build-universal.sh CBNplot_1.7.0.tar.gz /Library/Frameworks/R.framework/Resources/bin/R CBNplot.buildbin-libdir StartedAt: 2025-02-10 00:45:23 -0500 (Mon, 10 Feb 2025) EndedAt: 2025-02-10 00:46:07 -0500 (Mon, 10 Feb 2025) EllapsedTime: 43.9 seconds RetCode: 0 Status: OK PackageFile: CBNplot_1.7.0.tgz PackageFileSize: 1.146 MiB