Package: CBNplot Version: 1.7.0 Command: /Library/Frameworks/R.framework/Resources/bin/R CMD build --keep-empty-dirs --no-resave-data CBNplot StartedAt: 2025-02-09 16:11:01 -0500 (Sun, 09 Feb 2025) EndedAt: 2025-02-09 16:12:05 -0500 (Sun, 09 Feb 2025) EllapsedTime: 64.0 seconds RetCode: 0 Status: OK PackageFile: CBNplot_1.7.0.tar.gz PackageFileSize: 1.009 MiB