Package: CBNplot Version: 1.7.0 Command: /Library/Frameworks/R.framework/Resources/bin/R CMD check --install=check:CBNplot.install-out.txt --library=/Library/Frameworks/R.framework/Resources/library --no-vignettes --timings CBNplot_1.7.0.tar.gz StartedAt: 2025-02-09 19:35:29 -0500 (Sun, 09 Feb 2025) EndedAt: 2025-02-09 19:42:08 -0500 (Sun, 09 Feb 2025) EllapsedTime: 398.6 seconds RetCode: 0 Status: OK CheckDir: CBNplot.Rcheck Warnings: 0