Package: CBNplot Version: 1.7.0 Command: /home/biocbuild/bbs-3.21-bioc/R/bin/R CMD build --keep-empty-dirs --no-resave-data CBNplot StartedAt: 2025-02-09 16:32:25 -0500 (Sun, 09 Feb 2025) EndedAt: 2025-02-09 16:33:29 -0500 (Sun, 09 Feb 2025) EllapsedTime: 64.1 seconds RetCode: 0 Status: OK PackageFile: CBNplot_1.7.0.tar.gz PackageFileSize: 1006 KiB