Package: CBNplot Version: 1.7.0 Command: E:\biocbuild\bbs-3.21-bioc\R\bin\R.exe CMD check --no-multiarch --install=check:CBNplot.install-out.txt --library=E:\biocbuild\bbs-3.21-bioc\R\library --no-vignettes --timings CBNplot_1.7.0.tar.gz StartedAt: 2025-02-09 23:24:29 -0500 (Sun, 09 Feb 2025) EndedAt: 2025-02-09 23:31:16 -0500 (Sun, 09 Feb 2025) EllapsedTime: 406.9 seconds RetCode: 0 Status: OK CheckDir: CBNplot.Rcheck Warnings: 0