Package: CCPROMISE Version: 1.33.0 Command: /Library/Frameworks/R.framework/Resources/bin/R CMD build --keep-empty-dirs --no-resave-data CCPROMISE StartedAt: 2025-02-09 16:11:29 -0500 (Sun, 09 Feb 2025) EndedAt: 2025-02-09 16:12:11 -0500 (Sun, 09 Feb 2025) EllapsedTime: 42.3 seconds RetCode: 0 Status: OK PackageFile: CCPROMISE_1.33.0.tar.gz PackageFileSize: 1.031 MiB