Package: CCPROMISE Version: 1.33.0 Command: rm -rf CCPROMISE.buildbin-libdir && mkdir CCPROMISE.buildbin-libdir && E:\biocbuild\bbs-3.21-bioc\R\bin\R.exe CMD INSTALL --build --library=CCPROMISE.buildbin-libdir CCPROMISE_1.33.0.tar.gz StartedAt: 2025-02-13 07:34:40 -0500 (Thu, 13 Feb 2025) EndedAt: 2025-02-13 07:35:16 -0500 (Thu, 13 Feb 2025) EllapsedTime: 35.3 seconds RetCode: 0 Status: OK PackageFile: CCPROMISE_1.33.0.zip PackageFileSize: 1.084 MiB