Package: CCPlotR Version: 1.5.0 Command: rm -rf CCPlotR.buildbin-libdir && mkdir CCPlotR.buildbin-libdir && /Users/biocbuild/BBS/utils/build-universal.sh CCPlotR_1.5.0.tar.gz /Library/Frameworks/R.framework/Resources/bin/R CCPlotR.buildbin-libdir StartedAt: 2025-02-04 22:10:23 -0500 (Tue, 04 Feb 2025) EndedAt: 2025-02-04 22:10:29 -0500 (Tue, 04 Feb 2025) EllapsedTime: 6.1 seconds RetCode: 0 Status: OK PackageFile: CCPlotR_1.5.0.tgz PackageFileSize: 2.704 MiB