Package: CCPlotR Version: 1.5.0 Command: /Library/Frameworks/R.framework/Resources/bin/R CMD INSTALL CCPlotR StartedAt: 2025-02-04 15:13:40 -0500 (Tue, 04 Feb 2025) EndedAt: 2025-02-04 15:13:45 -0500 (Tue, 04 Feb 2025) EllapsedTime: 5.3 seconds RetCode: 0 Status: OK