Package: CCPlotR Version: 1.5.0 Command: /home/biocbuild/R/R/bin/R CMD check --install=check:CCPlotR.install-out.txt --library=/home/biocbuild/R/R/site-library --no-vignettes --timings CCPlotR_1.5.0.tar.gz StartedAt: 2025-01-28 08:58:34 -0000 (Tue, 28 Jan 2025) EndedAt: 2025-01-28 09:00:28 -0000 (Tue, 28 Jan 2025) EllapsedTime: 114.1 seconds RetCode: 0 Status: WARNINGS CheckDir: CCPlotR.Rcheck Warnings: 5