Package: CCPlotR Version: 1.5.0 Command: E:\biocbuild\bbs-3.21-bioc\R\bin\R.exe CMD check --no-multiarch --install=check:CCPlotR.install-out.txt --library=E:\biocbuild\bbs-3.21-bioc\R\library --no-vignettes --timings CCPlotR_1.5.0.tar.gz StartedAt: 2025-02-09 23:26:10 -0500 (Sun, 09 Feb 2025) EndedAt: 2025-02-09 23:28:22 -0500 (Sun, 09 Feb 2025) EllapsedTime: 132.7 seconds RetCode: 0 Status: OK CheckDir: CCPlotR.Rcheck Warnings: 0