Package: CDI Version: 1.5.0 Command: /home/biocbuild/R/R/bin/R CMD build --keep-empty-dirs --no-resave-data CDI StartedAt: 2025-01-28 21:37:25 -0000 (Tue, 28 Jan 2025) EndedAt: 2025-01-28 21:48:50 -0000 (Tue, 28 Jan 2025) EllapsedTime: 685.2 seconds RetCode: 0 Status: OK PackageFile: CDI_1.5.0.tar.gz PackageFileSize: 1.898 MiB