Package: CDI Version: 1.5.0 Command: /Library/Frameworks/R.framework/Resources/bin/R CMD build --keep-empty-dirs --no-resave-data CDI StartedAt: 2025-02-09 16:11:32 -0500 (Sun, 09 Feb 2025) EndedAt: 2025-02-09 16:19:25 -0500 (Sun, 09 Feb 2025) EllapsedTime: 472.9 seconds RetCode: 0 Status: OK PackageFile: CDI_1.5.0.tar.gz PackageFileSize: 2.078 MiB