Package: CDI Version: 1.5.0 Command: /Library/Frameworks/R.framework/Resources/bin/R CMD check --install=check:CDI.install-out.txt --library=/Library/Frameworks/R.framework/Resources/library --no-vignettes --timings CDI_1.5.0.tar.gz StartedAt: 2025-02-09 19:36:27 -0500 (Sun, 09 Feb 2025) EndedAt: 2025-02-09 19:41:40 -0500 (Sun, 09 Feb 2025) EllapsedTime: 313.2 seconds RetCode: 0 Status: OK CheckDir: CDI.Rcheck Warnings: 0