Package: CDI Version: 1.5.0 Command: /Library/Frameworks/R.framework/Resources/bin/R CMD INSTALL CDI StartedAt: 2025-02-12 15:41:50 -0500 (Wed, 12 Feb 2025) EndedAt: 2025-02-12 15:42:41 -0500 (Wed, 12 Feb 2025) EllapsedTime: 51.3 seconds RetCode: 0 Status: OK