Package: CDI Version: 1.5.0 Command: /home/biocbuild/bbs-3.21-bioc/R/bin/R CMD build --keep-empty-dirs --no-resave-data CDI StartedAt: 2025-02-09 16:33:15 -0500 (Sun, 09 Feb 2025) EndedAt: 2025-02-09 16:40:57 -0500 (Sun, 09 Feb 2025) EllapsedTime: 461.5 seconds RetCode: 0 Status: OK PackageFile: CDI_1.5.0.tar.gz PackageFileSize: 2.05 MiB