Package: CDI Version: 1.5.0 Command: /home/biocbuild/bbs-3.21-bioc/R/bin/R CMD INSTALL CDI StartedAt: 2025-02-09 15:18:53 -0500 (Sun, 09 Feb 2025) EndedAt: 2025-02-09 15:19:29 -0500 (Sun, 09 Feb 2025) EllapsedTime: 36.2 seconds RetCode: 0 Status: OK