Package: CDI Version: 1.5.0 Command: rm -rf CDI.buildbin-libdir && mkdir CDI.buildbin-libdir && E:\biocbuild\bbs-3.21-bioc\R\bin\R.exe CMD INSTALL --build --library=CDI.buildbin-libdir CDI_1.5.0.tar.gz StartedAt: 2025-02-10 07:23:58 -0500 (Mon, 10 Feb 2025) EndedAt: 2025-02-10 07:24:40 -0500 (Mon, 10 Feb 2025) EllapsedTime: 42.4 seconds RetCode: 0 Status: OK PackageFile: CDI_1.5.0.zip PackageFileSize: 1.854 MiB