Package: CDI Version: 1.5.0 Command: chmod a+r CDI -R && E:\biocbuild\bbs-3.21-bioc\R\bin\R.exe CMD build --keep-empty-dirs --no-resave-data CDI StartedAt: 2025-02-09 17:42:19 -0500 (Sun, 09 Feb 2025) EndedAt: 2025-02-09 17:55:18 -0500 (Sun, 09 Feb 2025) EllapsedTime: 779.4 seconds RetCode: 0 Status: OK PackageFile: CDI_1.5.0.tar.gz PackageFileSize: 1.811 MiB