Package: CDI Version: 1.5.0 Command: E:\biocbuild\bbs-3.21-bioc\R\bin\R.exe CMD check --no-multiarch --install=check:CDI.install-out.txt --library=E:\biocbuild\bbs-3.21-bioc\R\library --no-vignettes --timings CDI_1.5.0.tar.gz StartedAt: 2025-02-09 23:27:41 -0500 (Sun, 09 Feb 2025) EndedAt: 2025-02-09 23:32:51 -0500 (Sun, 09 Feb 2025) EllapsedTime: 309.8 seconds RetCode: 0 Status: OK CheckDir: CDI.Rcheck Warnings: 0