Package: CDI Version: 1.5.0 Command: E:\biocbuild\bbs-3.21-bioc\R\bin\R.exe CMD INSTALL CDI StartedAt: 2025-02-12 16:56:16 -0500 (Wed, 12 Feb 2025) EndedAt: 2025-02-12 16:57:00 -0500 (Wed, 12 Feb 2025) EllapsedTime: 44.4 seconds RetCode: 0 Status: OK