Package: CEMiTool Version: 1.31.0 Command: rm -rf CEMiTool.buildbin-libdir && mkdir CEMiTool.buildbin-libdir && /Users/biocbuild/BBS/utils/build-universal.sh CEMiTool_1.31.0.tar.gz /Library/Frameworks/R.framework/Resources/bin/R CEMiTool.buildbin-libdir StartedAt: 2025-02-03 22:44:37 -0500 (Mon, 03 Feb 2025) EndedAt: 2025-02-03 22:44:49 -0500 (Mon, 03 Feb 2025) EllapsedTime: 12.2 seconds RetCode: 0 Status: OK PackageFile: CEMiTool_1.31.0.tgz PackageFileSize: 6.149 MiB