Package: CEMiTool Version: 1.31.0 Command: /Library/Frameworks/R.framework/Resources/bin/R CMD build --keep-empty-dirs --no-resave-data CEMiTool StartedAt: 2025-02-03 16:25:11 -0500 (Mon, 03 Feb 2025) EndedAt: 2025-02-03 16:25:44 -0500 (Mon, 03 Feb 2025) EllapsedTime: 33.4 seconds RetCode: 0 Status: OK PackageFile: CEMiTool_1.31.0.tar.gz PackageFileSize: 5.636 MiB