Package: CEMiTool Version: 1.31.0 Command: /home/biocbuild/R/R/bin/R CMD build --keep-empty-dirs --no-resave-data CEMiTool StartedAt: 2025-01-28 21:41:08 -0000 (Tue, 28 Jan 2025) EndedAt: 2025-01-28 21:43:25 -0000 (Tue, 28 Jan 2025) EllapsedTime: 137.0 seconds RetCode: 0 Status: OK PackageFile: CEMiTool_1.31.0.tar.gz PackageFileSize: 4.751 MiB