Package: CEMiTool Version: 1.31.0 Command: /home/biocbuild/R/R/bin/R CMD INSTALL CEMiTool StartedAt: 2025-01-29 20:19:33 -0000 (Wed, 29 Jan 2025) EndedAt: 2025-01-29 20:20:11 -0000 (Wed, 29 Jan 2025) EllapsedTime: 37.1 seconds RetCode: 0 Status: OK