Package: CEMiTool Version: 1.31.0 Command: /Library/Frameworks/R.framework/Resources/bin/R CMD build --keep-empty-dirs --no-resave-data CEMiTool StartedAt: 2025-02-03 16:15:27 -0500 (Mon, 03 Feb 2025) EndedAt: 2025-02-03 16:16:59 -0500 (Mon, 03 Feb 2025) EllapsedTime: 92.6 seconds RetCode: 0 Status: OK PackageFile: CEMiTool_1.31.0.tar.gz PackageFileSize: 5.629 MiB