Package: CEMiTool Version: 1.31.0 Command: /Library/Frameworks/R.framework/Resources/bin/R CMD check --install=check:CEMiTool.install-out.txt --library=/Library/Frameworks/R.framework/Resources/library --no-vignettes --timings CEMiTool_1.31.0.tar.gz StartedAt: 2025-02-03 19:31:02 -0500 (Mon, 03 Feb 2025) EndedAt: 2025-02-03 19:35:42 -0500 (Mon, 03 Feb 2025) EllapsedTime: 280.1 seconds RetCode: 0 Status: OK CheckDir: CEMiTool.Rcheck Warnings: 0