Package: CEMiTool Version: 1.31.0 Command: /Library/Frameworks/R.framework/Resources/bin/R CMD INSTALL CEMiTool StartedAt: 2025-02-03 15:38:22 -0500 (Mon, 03 Feb 2025) EndedAt: 2025-02-03 15:38:58 -0500 (Mon, 03 Feb 2025) EllapsedTime: 36.8 seconds RetCode: 0 Status: OK