Package: CEMiTool Version: 1.31.0 Command: /home/biocbuild/bbs-3.21-bioc/R/bin/R CMD INSTALL CEMiTool StartedAt: 2025-02-03 15:54:30 -0500 (Mon, 03 Feb 2025) EndedAt: 2025-02-03 15:54:57 -0500 (Mon, 03 Feb 2025) EllapsedTime: 27.1 seconds RetCode: 0 Status: OK