Package: CFAssay Version: 1.41.0 Command: /Library/Frameworks/R.framework/Resources/bin/R CMD INSTALL CFAssay StartedAt: 2025-02-12 15:03:46 -0500 (Wed, 12 Feb 2025) EndedAt: 2025-02-12 15:03:47 -0500 (Wed, 12 Feb 2025) EllapsedTime: 1.7 seconds RetCode: 0 Status: OK