Package: CFAssay Version: 1.41.0 Command: /Library/Frameworks/R.framework/Resources/bin/R CMD build --keep-empty-dirs --no-resave-data CFAssay StartedAt: 2025-02-12 16:11:32 -0500 (Wed, 12 Feb 2025) EndedAt: 2025-02-12 16:11:44 -0500 (Wed, 12 Feb 2025) EllapsedTime: 12.6 seconds RetCode: 0 Status: OK PackageFile: CFAssay_1.41.0.tar.gz PackageFileSize: 322.2 KiB