Package: CFAssay Version: 1.41.0 Command: /Library/Frameworks/R.framework/Resources/bin/R CMD check --install=check:CFAssay.install-out.txt --library=/Library/Frameworks/R.framework/Resources/library --no-vignettes --timings CFAssay_1.41.0.tar.gz StartedAt: 2025-02-09 19:40:27 -0500 (Sun, 09 Feb 2025) EndedAt: 2025-02-09 19:40:56 -0500 (Sun, 09 Feb 2025) EllapsedTime: 28.5 seconds RetCode: 0 Status: OK CheckDir: CFAssay.Rcheck Warnings: 0