Package: CFAssay Version: 1.41.0 Command: /Library/Frameworks/R.framework/Resources/bin/R CMD INSTALL CFAssay StartedAt: 2025-02-09 15:08:16 -0500 (Sun, 09 Feb 2025) EndedAt: 2025-02-09 15:08:39 -0500 (Sun, 09 Feb 2025) EllapsedTime: 23.2 seconds RetCode: 0 Status: OK