Package: CFAssay Version: 1.41.0 Command: rm -rf CFAssay.buildbin-libdir && mkdir CFAssay.buildbin-libdir && E:\biocbuild\bbs-3.21-bioc\R\bin\R.exe CMD INSTALL --build --library=CFAssay.buildbin-libdir CFAssay_1.41.0.tar.gz StartedAt: 2025-02-10 07:25:05 -0500 (Mon, 10 Feb 2025) EndedAt: 2025-02-10 07:25:13 -0500 (Mon, 10 Feb 2025) EllapsedTime: 8.8 seconds RetCode: 0 Status: OK PackageFile: CFAssay_1.41.0.zip PackageFileSize: 274.7 KiB