Package: CGEN Version: 3.43.0 Command: rm -rf CGEN.buildbin-libdir && mkdir CGEN.buildbin-libdir && /Users/biocbuild/BBS/utils/build-universal.sh CGEN_3.43.0.tar.gz /Library/Frameworks/R.framework/Resources/bin/R CGEN.buildbin-libdir StartedAt: 2025-02-09 22:08:55 -0500 (Sun, 09 Feb 2025) EndedAt: 2025-02-09 22:09:06 -0500 (Sun, 09 Feb 2025) EllapsedTime: 10.2 seconds RetCode: 0 Status: OK PackageFile: CGEN_3.43.0.tgz PackageFileSize: 1.919 MiB