Package: CGEN Version: 3.43.0 Command: /Library/Frameworks/R.framework/Resources/bin/R CMD build --keep-empty-dirs --no-resave-data CGEN StartedAt: 2025-02-12 15:51:33 -0500 (Wed, 12 Feb 2025) EndedAt: 2025-02-12 15:51:52 -0500 (Wed, 12 Feb 2025) EllapsedTime: 19.2 seconds RetCode: 0 Status: OK PackageFile: CGEN_3.43.0.tar.gz PackageFileSize: 980.8 KiB