Package: CGEN Version: 3.43.0 Command: /Library/Frameworks/R.framework/Resources/bin/R CMD build --keep-empty-dirs --no-resave-data CGEN StartedAt: 2025-02-09 16:14:09 -0500 (Sun, 09 Feb 2025) EndedAt: 2025-02-09 16:15:04 -0500 (Sun, 09 Feb 2025) EllapsedTime: 54.9 seconds RetCode: 0 Status: OK PackageFile: CGEN_3.43.0.tar.gz PackageFileSize: 981 KiB