Package: CGEN Version: 3.43.0 Command: /Library/Frameworks/R.framework/Resources/bin/R CMD INSTALL CGEN StartedAt: 2025-02-04 15:33:25 -0500 (Tue, 04 Feb 2025) EndedAt: 2025-02-04 15:33:58 -0500 (Tue, 04 Feb 2025) EllapsedTime: 32.6 seconds RetCode: 0 Status: OK