Package: CGEN Version: 3.43.0 Command: rm -rf CGEN.buildbin-libdir && mkdir CGEN.buildbin-libdir && E:\biocbuild\bbs-3.21-bioc\R\bin\R.exe CMD INSTALL --build --library=CGEN.buildbin-libdir CGEN_3.43.0.tar.gz StartedAt: 2025-02-10 07:25:10 -0500 (Mon, 10 Feb 2025) EndedAt: 2025-02-10 07:26:39 -0500 (Mon, 10 Feb 2025) EllapsedTime: 88.4 seconds RetCode: 0 Status: OK PackageFile: CGEN_3.43.0.zip PackageFileSize: 1.754 MiB