Package: CGEN Version: 3.43.0 Command: chmod a+r CGEN -R && E:\biocbuild\bbs-3.21-bioc\R\bin\R.exe CMD build --keep-empty-dirs --no-resave-data CGEN StartedAt: 2025-02-09 17:46:54 -0500 (Sun, 09 Feb 2025) EndedAt: 2025-02-09 17:48:16 -0500 (Sun, 09 Feb 2025) EllapsedTime: 82.1 seconds RetCode: 0 Status: OK PackageFile: CGEN_3.43.0.tar.gz PackageFileSize: 822.1 KiB