Package: CGEN Version: 3.43.0 Command: E:\biocbuild\bbs-3.21-bioc\R\bin\R.exe CMD check --no-multiarch --install=check:CGEN.install-out.txt --library=E:\biocbuild\bbs-3.21-bioc\R\library --no-vignettes --timings CGEN_3.43.0.tar.gz StartedAt: 2025-02-04 23:59:03 -0500 (Tue, 04 Feb 2025) EndedAt: 2025-02-05 00:03:02 -0500 (Wed, 05 Feb 2025) EllapsedTime: 239.2 seconds RetCode: 0 Status: WARNINGS CheckDir: CGEN.Rcheck Warnings: 1