Package: CGEN Version: 3.43.0 Command: E:\biocbuild\bbs-3.21-bioc\R\bin\R.exe CMD INSTALL CGEN StartedAt: 2025-02-09 15:58:32 -0500 (Sun, 09 Feb 2025) EndedAt: 2025-02-09 15:59:27 -0500 (Sun, 09 Feb 2025) EllapsedTime: 55.1 seconds RetCode: 0 Status: OK