Package: CGHcall Version: 2.69.0 Command: rm -rf CGHcall.buildbin-libdir && mkdir CGHcall.buildbin-libdir && /Users/biocbuild/BBS/utils/build-universal.sh CGHcall_2.69.0.tar.gz /Library/Frameworks/R.framework/Resources/bin/R CGHcall.buildbin-libdir StartedAt: 2025-02-12 22:14:02 -0500 (Wed, 12 Feb 2025) EndedAt: 2025-02-12 22:14:05 -0500 (Wed, 12 Feb 2025) EllapsedTime: 3.1 seconds RetCode: 0 Status: OK PackageFile: CGHcall_2.69.0.tgz PackageFileSize: 534.1 KiB