Package: CGHcall Version: 2.69.0 Command: /Library/Frameworks/R.framework/Resources/bin/R CMD build --keep-empty-dirs --no-resave-data CGHcall StartedAt: 2025-02-09 15:51:43 -0500 (Sun, 09 Feb 2025) EndedAt: 2025-02-09 15:51:52 -0500 (Sun, 09 Feb 2025) EllapsedTime: 9.1 seconds RetCode: 0 Status: OK PackageFile: CGHcall_2.69.0.tar.gz PackageFileSize: 451.9 KiB