Package: CGHcall Version: 2.69.0 Command: /Library/Frameworks/R.framework/Resources/bin/R CMD check --install=check:CGHcall.install-out.txt --library=/Library/Frameworks/R.framework/Resources/library --no-vignettes --timings CGHcall_2.69.0.tar.gz StartedAt: 2025-02-12 18:29:39 -0500 (Wed, 12 Feb 2025) EndedAt: 2025-02-12 18:29:56 -0500 (Wed, 12 Feb 2025) EllapsedTime: 17.2 seconds RetCode: 0 Status: WARNINGS CheckDir: CGHcall.Rcheck Warnings: 1