Package: CGHcall Version: 2.69.0 Command: /home/biocbuild/R/R/bin/R CMD INSTALL CGHcall StartedAt: 2025-01-29 19:36:29 -0000 (Wed, 29 Jan 2025) EndedAt: 2025-01-29 19:37:01 -0000 (Wed, 29 Jan 2025) EllapsedTime: 31.7 seconds RetCode: 0 Status: OK