Package: CGHcall Version: 2.69.0 Command: rm -rf CGHcall.buildbin-libdir && mkdir CGHcall.buildbin-libdir && /Users/biocbuild/BBS/utils/build-universal.sh CGHcall_2.69.0.tar.gz /Library/Frameworks/R.framework/Resources/bin/R CGHcall.buildbin-libdir StartedAt: 2025-02-10 00:46:03 -0500 (Mon, 10 Feb 2025) EndedAt: 2025-02-10 00:46:13 -0500 (Mon, 10 Feb 2025) EllapsedTime: 10.5 seconds RetCode: 0 Status: OK PackageFile: CGHcall_2.69.0.tgz PackageFileSize: 533.2 KiB