Package: CGHcall Version: 2.69.0 Command: /home/biocbuild/bbs-3.21-bioc/R/bin/R CMD build --keep-empty-dirs --no-resave-data CGHcall StartedAt: 2025-02-12 16:32:54 -0500 (Wed, 12 Feb 2025) EndedAt: 2025-02-12 16:33:15 -0500 (Wed, 12 Feb 2025) EllapsedTime: 21.0 seconds RetCode: 0 Status: OK PackageFile: CGHcall_2.69.0.tar.gz PackageFileSize: 451.7 KiB